BEGIN:VCALENDAR
VERSION:2.0
PRODID:-//White Sand Beach Association - ECPv6.15.20//NONSGML v1.0//EN
CALSCALE:GREGORIAN
METHOD:PUBLISH
X-WR-CALNAME:White Sand Beach Association
X-ORIGINAL-URL:https://whitesandbeachct.com
X-WR-CALDESC:Events for White Sand Beach Association
REFRESH-INTERVAL;VALUE=DURATION:PT1H
X-Robots-Tag:noindex
X-PUBLISHED-TTL:PT1H
BEGIN:VTIMEZONE
TZID:America/New_York
BEGIN:DAYLIGHT
TZOFFSETFROM:-0500
TZOFFSETTO:-0400
TZNAME:EDT
DTSTART:20230312T070000
END:DAYLIGHT
BEGIN:STANDARD
TZOFFSETFROM:-0400
TZOFFSETTO:-0500
TZNAME:EST
DTSTART:20231105T060000
END:STANDARD
BEGIN:DAYLIGHT
TZOFFSETFROM:-0500
TZOFFSETTO:-0400
TZNAME:EDT
DTSTART:20240310T070000
END:DAYLIGHT
BEGIN:STANDARD
TZOFFSETFROM:-0400
TZOFFSETTO:-0500
TZNAME:EST
DTSTART:20241103T060000
END:STANDARD
BEGIN:DAYLIGHT
TZOFFSETFROM:-0500
TZOFFSETTO:-0400
TZNAME:EDT
DTSTART:20250309T070000
END:DAYLIGHT
BEGIN:STANDARD
TZOFFSETFROM:-0400
TZOFFSETTO:-0500
TZNAME:EST
DTSTART:20251102T060000
END:STANDARD
END:VTIMEZONE
BEGIN:VEVENT
DTSTART;TZID=America/New_York:20240719T183000
DTEND;TZID=America/New_York:20240719T200000
DTSTAMP:20260423T201806
CREATED:20240712T112650Z
LAST-MODIFIED:20240712T112756Z
UID:347-1721413800-1721419200@whitesandbeachct.com
SUMMARY:Ice Cream Social 6:30-8pm
DESCRIPTION:Make your own Sundae!   All proceeds benefit the recreation program. \nHeld at the Rec Hall \nKids $3   Adults $5 \nRSVP via Text to Christine Olsen 860-302-0746
URL:https://whitesandbeachct.com/event/ice-cream-social-630-8pm/
CATEGORIES:Rec Fundraiser Events
END:VEVENT
END:VCALENDAR